BEGIN:VCALENDAR
VERSION:2.0
PRODID:-//Philly Soul Now - ECPv6.15.20//NONSGML v1.0//EN
CALSCALE:GREGORIAN
METHOD:PUBLISH
X-WR-CALNAME:Philly Soul Now
X-ORIGINAL-URL:https://phillysoulnow.com
X-WR-CALDESC:Events for Philly Soul Now
REFRESH-INTERVAL;VALUE=DURATION:PT1H
X-Robots-Tag:noindex
X-PUBLISHED-TTL:PT1H
BEGIN:VTIMEZONE
TZID:America/New_York
BEGIN:DAYLIGHT
TZOFFSETFROM:-0500
TZOFFSETTO:-0400
TZNAME:EDT
DTSTART:20250309T070000
END:DAYLIGHT
BEGIN:STANDARD
TZOFFSETFROM:-0400
TZOFFSETTO:-0500
TZNAME:EST
DTSTART:20251102T060000
END:STANDARD
BEGIN:DAYLIGHT
TZOFFSETFROM:-0500
TZOFFSETTO:-0400
TZNAME:EDT
DTSTART:20260308T070000
END:DAYLIGHT
BEGIN:STANDARD
TZOFFSETFROM:-0400
TZOFFSETTO:-0500
TZNAME:EST
DTSTART:20261101T060000
END:STANDARD
BEGIN:DAYLIGHT
TZOFFSETFROM:-0500
TZOFFSETTO:-0400
TZNAME:EDT
DTSTART:20270314T070000
END:DAYLIGHT
BEGIN:STANDARD
TZOFFSETFROM:-0400
TZOFFSETTO:-0500
TZNAME:EST
DTSTART:20271107T060000
END:STANDARD
END:VTIMEZONE
BEGIN:VEVENT
DTSTART;TZID=America/New_York:20260306T190000
DTEND;TZID=America/New_York:20260306T220000
DTSTAMP:20260425T065648
CREATED:20260227T145757Z
LAST-MODIFIED:20260227T145758Z
UID:8796-1772823600-1772834400@phillysoulnow.com
SUMMARY:Voices of Philly Soul Present: Acoustic Sessions with Carla Gamble & Friends at The Fallser Club
DESCRIPTION:Acoustic sessions with Carla Gamble\, Alxzandria\, Jakeya Limitless\, Paris Marie and Your Favorite Jawn
URL:https://phillysoulnow.com/event/voices-of-philly-soul-present-acoustic-sessions-with-carla-gamble-friends-at-the-fallser-club/
LOCATION:The Fallser Club\, 3721 Midvale Ave\, Philadelphia\, Pennsylvania\, 19129\, United States
ATTACH;FMTTYPE=image/jpeg:https://phillysoulnow.com/wp-content/uploads/2026/02/IMG_9343.jpeg
END:VEVENT
BEGIN:VEVENT
DTSTART;TZID=America/New_York:20260306T200000
DTEND;TZID=America/New_York:20260306T223000
DTSTAMP:20260425T065648
CREATED:20260114T231206Z
LAST-MODIFIED:20260127T040409Z
UID:8600-1772827200-1772836200@phillysoulnow.com
SUMMARY:Robert Glasper at Union Transfer
DESCRIPTION:
URL:https://phillysoulnow.com/event/robert-glasper-at-union-transfer/
LOCATION:Union Transfer\, 1026 Spring Garden Street.\, Philadelphia\, Pennsylvania\, 19123\, United States
ATTACH;FMTTYPE=image/jpeg:https://phillysoulnow.com/wp-content/uploads/2026/01/IMG_8957.jpg
END:VEVENT
BEGIN:VEVENT
DTSTART;TZID=America/New_York:20260307T200000
DTEND;TZID=America/New_York:20260307T220000
DTSTAMP:20260425T065648
CREATED:20260127T043928Z
LAST-MODIFIED:20260127T043928Z
UID:8682-1772913600-1772920800@phillysoulnow.com
SUMMARY:Amber Mark Presents: The Pretty Idea Tour at TLA
DESCRIPTION:
URL:https://phillysoulnow.com/event/amber-mark-presents-the-pretty-idea-tour-at-tla/
LOCATION:TLA\, 334 South Street\, Philadelphia\, PA\, United States
ATTACH;FMTTYPE=image/jpeg:https://phillysoulnow.com/wp-content/uploads/2026/01/tlaphilly__2025-10-13T151429.000Z-2.jpg
END:VEVENT
BEGIN:VEVENT
DTSTART;TZID=America/New_York:20260313T193000
DTEND;TZID=America/New_York:20260313T223000
DTSTAMP:20260425T065648
CREATED:20260304T181708Z
LAST-MODIFIED:20260304T181709Z
UID:8803-1773430200-1773441000@phillysoulnow.com
SUMMARY:R&B Afterdark Presents: The Inglorious with Aliyah Khaylyn & Balmour at City Winery
DESCRIPTION:
URL:https://phillysoulnow.com/event/rb-afterdark-presents-the-inglorious-with-aliyah-khaylyn-balmour-at-city-winery/
LOCATION:City Winery Philadelphia\, 990 Filbert Street\, Philadelphia\, PA\, 19107\, United States
ATTACH;FMTTYPE=image/jpeg:https://phillysoulnow.com/wp-content/uploads/2026/03/IMG_9408.jpeg
END:VEVENT
BEGIN:VEVENT
DTSTART;TZID=America/New_York:20260313T200000
DTEND;TZID=America/New_York:20260313T223000
DTSTAMP:20260425T065648
CREATED:20260127T034925Z
LAST-MODIFIED:20260127T034925Z
UID:8663-1773432000-1773441000@phillysoulnow.com
SUMMARY:Day 26 Featuring Avery Wilson at World Cafe Live
DESCRIPTION:
URL:https://phillysoulnow.com/event/day-26-featuring-avery-wilson-at-world-cafe-live/
LOCATION:World Cafe Live\, 3025 Walnut Street\, Philadelphia\, Pennsylvania\, 19104\, United States
ATTACH;FMTTYPE=image/jpeg:https://phillysoulnow.com/wp-content/uploads/2026/01/Day-26-avery-Wilson-World-Cafe-Live.jpg
END:VEVENT
BEGIN:VEVENT
DTSTART;TZID=America/New_York:20260315T190000
DTEND;TZID=America/New_York:20260315T220000
DTSTAMP:20260425T065648
CREATED:20251029T202905Z
LAST-MODIFIED:20251029T202905Z
UID:8422-1773601200-1773612000@phillysoulnow.com
SUMMARY:The New Edition Way Tour: New Edition\, Boyz II Men and Toni Braxton at The Liacouras Center
DESCRIPTION:
URL:https://phillysoulnow.com/event/the-new-edition-way-tour-new-edition-boyz-ii-men-and-toni-braxton-at-the-liacouras-center/
LOCATION:The Liacouras Center\, 1776 North Broad Street\, Philadelphia\, Pennsylvania\, 19121
ATTACH;FMTTYPE=image/jpeg:https://phillysoulnow.com/wp-content/uploads/2025/10/IMG_7652.jpeg
END:VEVENT
BEGIN:VEVENT
DTSTART;TZID=America/New_York:20260320T113000
DTEND;TZID=America/New_York:20260320T120000
DTSTAMP:20260425T065648
CREATED:20260320T201233Z
LAST-MODIFIED:20260320T201234Z
UID:8908-1774006200-1774008000@phillysoulnow.com
SUMMARY:Kaleidoscope: Jam Session at The El Bar
DESCRIPTION:@ajay.music – bass@yesseh_ali – sax / percs@kyleno_one – drums \n\n\n\n9-10 – house band10-12 – jam session
URL:https://phillysoulnow.com/event/kaleidoscope-jam-session-at-the-el-bar/
LOCATION:The El Bar\, 1356 N Front St\, Philadelphia\, Pennsylvania\, 19122\, United States
ATTACH;FMTTYPE=image/jpeg:https://phillysoulnow.com/wp-content/uploads/2026/03/manu_gajanan__2026-03-12T190251.000Z.jpg
END:VEVENT
BEGIN:VEVENT
DTSTART;TZID=America/New_York:20260324T200000
DTEND;TZID=America/New_York:20260324T220000
DTSTAMP:20260425T065648
CREATED:20260127T011516Z
LAST-MODIFIED:20260327T010744Z
UID:8647-1774382400-1774389600@phillysoulnow.com
SUMMARY:SOLD OUT- Rochelle Jordan:Through The Wall Tour at TLA
DESCRIPTION:
URL:https://phillysoulnow.com/event/rochelle-jordanthrough-the-wall-tour-at-tla/
LOCATION:TLA\, 334 South Street\, Philadelphia\, PA\, United States
ATTACH;FMTTYPE=image/jpeg:https://phillysoulnow.com/wp-content/uploads/2026/01/tlaphilly__2025-12-11T220231.000Z.jpg
END:VEVENT
BEGIN:VEVENT
DTSTART;TZID=America/New_York:20260325T190000
DTEND;TZID=America/New_York:20260325T230000
DTSTAMP:20260425T065648
CREATED:20260320T175018Z
LAST-MODIFIED:20260320T175019Z
UID:8880-1774465200-1774479600@phillysoulnow.com
SUMMARY:Shabaka at Solar Myth (2 Shows)
DESCRIPTION:Shows at 7 PM and 9:30 PM
URL:https://phillysoulnow.com/event/shabaka-at-solar-myth-2-shows/
LOCATION:Solar Myth\, 1131 S Broad St\, \, PA 19147\, Philadelphia\, Pennsylvania\, 19147\, United States
ATTACH;FMTTYPE=image/jpeg:https://phillysoulnow.com/wp-content/uploads/2026/03/fabricworkshop__2026-03-18T211517.000Z.jpg
END:VEVENT
BEGIN:VEVENT
DTSTART;TZID=America/New_York:20260327T190000
DTEND;TZID=America/New_York:20260327T220000
DTSTAMP:20260425T065648
CREATED:20260127T011721Z
LAST-MODIFIED:20260127T011721Z
UID:8649-1774638000-1774648800@phillysoulnow.com
SUMMARY:Jon B at TLA
DESCRIPTION:
URL:https://phillysoulnow.com/event/jon-b-at-tla/
LOCATION:TLA\, 334 South Street\, Philadelphia\, PA\, United States
ATTACH;FMTTYPE=image/jpeg:https://phillysoulnow.com/wp-content/uploads/2026/01/tlaphilly__2026-01-26T184014.000Z.jpg
END:VEVENT
BEGIN:VEVENT
DTSTART;TZID=America/New_York:20260327T190000
DTEND;TZID=America/New_York:20260329T223000
DTSTAMP:20260425T065648
CREATED:20260320T210709Z
LAST-MODIFIED:20260320T210710Z
UID:8941-1774638000-1774823400@phillysoulnow.com
SUMMARY:Emily Braden at South Jazz Kitchen- March 27- 29 (Showtimes Vary)
DESCRIPTION:Friday & Saturday Showtimes 7:00PM & 9:30PM  \n\n\n\nSunday Showtimes 6:30PM & 8:30PM
URL:https://phillysoulnow.com/event/emily-braden-at-south-jazz-kitchen-march-27-29-showtimes-vary/
LOCATION:SOUTH\, 600 N Broad St.\, Philadelphia\, 19130\, United States
ATTACH;FMTTYPE=image/jpeg:https://phillysoulnow.com/wp-content/uploads/2026/03/southjazzkitchen__2026-02-28T153538.000Z.jpg
END:VEVENT
BEGIN:VEVENT
DTSTART;TZID=America/New_York:20260328T120000
DTEND;TZID=America/New_York:20260328T150000
DTSTAMP:20260425T065648
CREATED:20260320T173357Z
LAST-MODIFIED:20260320T174509Z
UID:8871-1774699200-1774710000@phillysoulnow.com
SUMMARY:L'ame De Philadelphie Brunch (The Soul of Philadelphia Brunch) at Fabrika
DESCRIPTION:Mister Mann’s Jam Session celebrates 13 years with powerhouse vocals\, burlesque aerialists\, soulful brunch\, and chic spring style. \n\n\n\nMister Mann’s Jam Session returns to Fabrika after its electrifying debut in January. On Saturday\, March 28\, 2026\, the wildly popular cover band delivers a soulfully rich set in celebration of its 13th anniversary. \n\n\n\nSix of Philadelphia’s premier voices join forces with a collective of stunning burlesque dancers and jaw-dropping aerialists. For more than a decade\, Mister Mann’s Jam Band has built a reputation for powerhouse vocal performances that move audiences to dance\, clap\, and sing along. \n\n\n\nThis evening of vocal and physical artistry also doubles as a birthday celebration for Mister Mann Frisby\, the founding curator and host of Mister Mann’s Jam Session. \n\n\n\nTo complete the experience\, Fabrika’s brunch menu will be available throughout the afternoon\, featuring mouthwatering dishes. Gather your friends and welcome spring with a bold\, joyful\, and deeply soulful brunch experience. Lineup: Tanqueray Hayward\, Jakeya Sanders\, Alisa Joe\, Mark Early Jr.\, Nadir Azim
URL:https://phillysoulnow.com/event/8871/
LOCATION:Fabrika\, 1108 Frankford Avenue\, Philadelphia\, Pennsylvania\, 19125\, United States
ATTACH;FMTTYPE=image/jpeg:https://phillysoulnow.com/wp-content/uploads/2026/03/Mister-Mann-Birthday-Jam.jpg
END:VEVENT
BEGIN:VEVENT
DTSTART;TZID=America/New_York:20260328T200000
DTEND;TZID=America/New_York:20260328T220000
DTSTAMP:20260425T065648
CREATED:20260127T044139Z
LAST-MODIFIED:20260127T044140Z
UID:8684-1774728000-1774735200@phillysoulnow.com
SUMMARY:Sabrina Claudio: Fall In Love With Her Tour at TLA
DESCRIPTION:Special guest: Dylan Sinclair
URL:https://phillysoulnow.com/event/sabrina-claudio-fall-in-love-with-her-tour-at-tla/
LOCATION:TLA\, 334 South Street\, Philadelphia\, PA\, United States
ATTACH;FMTTYPE=image/jpeg:https://phillysoulnow.com/wp-content/uploads/2026/01/tlaphilly__2025-11-04T200145.000Z.jpg
END:VEVENT
BEGIN:VEVENT
DTSTART;TZID=America/New_York:20260329T170000
DTEND;TZID=America/New_York:20260329T210000
DTSTAMP:20260425T065648
CREATED:20260327T011231Z
LAST-MODIFIED:20260327T011232Z
UID:8973-1774803600-1774818000@phillysoulnow.com
SUMMARY:The Female Takeover at The Fallser Club
DESCRIPTION:
URL:https://phillysoulnow.com/event/the-female-takeover-at-the-fallser-club/
LOCATION:The Fallser Club\, 3721 Midvale Ave\, Philadelphia\, Pennsylvania\, 19129\, United States
ATTACH;FMTTYPE=image/jpeg:https://phillysoulnow.com/wp-content/uploads/2026/03/D078F1D8-BFAA-451E-AEA4-0AE86C54FD4F.jpeg
END:VEVENT
END:VCALENDAR