BEGIN:VCALENDAR
VERSION:2.0
PRODID:-//Philly Soul Now - ECPv6.15.20//NONSGML v1.0//EN
CALSCALE:GREGORIAN
METHOD:PUBLISH
X-ORIGINAL-URL:https://phillysoulnow.com
X-WR-CALDESC:Events for Philly Soul Now
REFRESH-INTERVAL;VALUE=DURATION:PT1H
X-Robots-Tag:noindex
X-PUBLISHED-TTL:PT1H
BEGIN:VTIMEZONE
TZID:America/New_York
BEGIN:DAYLIGHT
TZOFFSETFROM:-0500
TZOFFSETTO:-0400
TZNAME:EDT
DTSTART:20250309T070000
END:DAYLIGHT
BEGIN:STANDARD
TZOFFSETFROM:-0400
TZOFFSETTO:-0500
TZNAME:EST
DTSTART:20251102T060000
END:STANDARD
BEGIN:DAYLIGHT
TZOFFSETFROM:-0500
TZOFFSETTO:-0400
TZNAME:EDT
DTSTART:20260308T070000
END:DAYLIGHT
BEGIN:STANDARD
TZOFFSETFROM:-0400
TZOFFSETTO:-0500
TZNAME:EST
DTSTART:20261101T060000
END:STANDARD
BEGIN:DAYLIGHT
TZOFFSETFROM:-0500
TZOFFSETTO:-0400
TZNAME:EDT
DTSTART:20270314T070000
END:DAYLIGHT
BEGIN:STANDARD
TZOFFSETFROM:-0400
TZOFFSETTO:-0500
TZNAME:EST
DTSTART:20271107T060000
END:STANDARD
END:VTIMEZONE
BEGIN:VEVENT
DTSTART;TZID=America/New_York:20260213T180000
DTEND;TZID=America/New_York:20260213T230000
DTSTAMP:20260425T110839
CREATED:20260211T232705Z
LAST-MODIFIED:20260211T232730Z
UID:8758-1771005600-1771023600@phillysoulnow.com
SUMMARY:Patti Austin at City Winery (Two Shows)
DESCRIPTION:Screenshot\n\n\n\n\n\n\nShows at 6 PM and 9:30 PM.
URL:https://phillysoulnow.com/event/patti-austin-at-city-winery/
LOCATION:City Winery Philadelphia\, 990 Filbert Street\, Philadelphia\, PA\, 19107\, United States
END:VEVENT
BEGIN:VEVENT
DTSTART;TZID=America/New_York:20260211T190000
DTEND;TZID=America/New_York:20260211T220000
DTSTAMP:20260425T110839
CREATED:20260205T013628Z
LAST-MODIFIED:20260205T013629Z
UID:8695-1770836400-1770847200@phillysoulnow.com
SUMMARY:A Jam Without Borders to Benefit Families Impacted By ICE Via Juntos: Corey Bernhard and Friends at Ortlieb's
DESCRIPTION:Tickets for A Jam Without Borders\, a fundraiser for Philadelphia families impacted by ICE via Juntos. Hosted by Corey Bernhard and Friends: \n\n\n\nSpecial guest Dayne Jordan \n\n\n\nTone Whitfield \n\n\n\nNazir Ebo \n\n\n\nArnetta Johnson \n\n\n\nRuss Gellman \n\n\n\nYesseh Furaha-Ali
URL:https://phillysoulnow.com/event/a-jam-without-borders-to-benefit-families-impacted-by-ice-via-juntos-corey-bernhard-and-friends-at-ortliebs/
LOCATION:Ortlieb’s\, 847 North 3rd Street\, Philadelphia\, Pennsylvania\, 19123\, United States
ATTACH;FMTTYPE=image/jpeg:https://phillysoulnow.com/wp-content/uploads/2026/02/4333collective__2026-01-22T000546.000Z-1.jpg
END:VEVENT
BEGIN:VEVENT
DTSTART;TZID=America/New_York:20260207T190000
DTEND;TZID=America/New_York:20260207T220000
DTSTAMP:20260425T110839
CREATED:20260206T223757Z
LAST-MODIFIED:20260206T223859Z
UID:8741-1770490800-1770501600@phillysoulnow.com
SUMMARY:Jeff Bradshaw & Friends Pre-Valentine’s Day Soirée at City Winery
DESCRIPTION:
URL:https://phillysoulnow.com/event/jeff-bradshaw-friends-pre-valentines-day-soiree-at-city-winery/
LOCATION:City Winery Philadelphia\, 990 Filbert Street\, Philadelphia\, PA\, 19107\, United States
ATTACH;FMTTYPE=image/jpeg:https://phillysoulnow.com/wp-content/uploads/2026/02/IMG_9069.jpeg
END:VEVENT
BEGIN:VEVENT
DTSTART;TZID=America/New_York:20260207T170000
DTEND;TZID=America/New_York:20260207T210000
DTSTAMP:20260425T110839
CREATED:20260127T041728Z
LAST-MODIFIED:20260127T042219Z
UID:8673-1770483600-1770498000@phillysoulnow.com
SUMMARY:4 On The Floor: Lady Alma\, Ursula Rucker\, Carla Gamble and DJ Sylo at The Fallser Club
DESCRIPTION:
URL:https://phillysoulnow.com/event/4-on-the-floor-lady-alma-ursula-rucker-carla-gamble-and-dj-sylo-at-the-fallser-club/
LOCATION:The Fallser Club\, 3721 Midvale Ave\, Philadelphia\, Pennsylvania\, 19129\, United States
ATTACH;FMTTYPE=image/jpeg:https://phillysoulnow.com/wp-content/uploads/2026/01/theladyalma__2026-01-05T160550.000Z.jpg
END:VEVENT
BEGIN:VEVENT
DTSTART;TZID=America/New_York:20260129T183000
DTEND;TZID=America/New_York:20260129T213000
DTSTAMP:20260425T110839
CREATED:20260127T033941Z
LAST-MODIFIED:20260127T033941Z
UID:8657-1769711400-1769722200@phillysoulnow.com
SUMMARY:Jazz at The Lodge: V. Shayne Frederick and Sandy Eldred
DESCRIPTION:
URL:https://phillysoulnow.com/event/jazz-at-the-lodge-v-shayne-frederick-and-sandy-eldred/
LOCATION:The Lodge by Two Robbers Spirit Company\, 738 S 11th St.\, Philadelphia\, Pennsylvania\, 19147\, United States
ATTACH;FMTTYPE=image/jpeg:https://phillysoulnow.com/wp-content/uploads/2026/01/sandyeldredbass__2026-01-26T183602.000Z.jpg
END:VEVENT
BEGIN:VEVENT
DTSTART;TZID=America/New_York:20260127T190000
DTEND;TZID=America/New_York:20260127T220000
DTSTAMP:20260425T110839
CREATED:20260127T043350Z
LAST-MODIFIED:20260127T043351Z
UID:8678-1769540400-1769551200@phillysoulnow.com
SUMMARY:The Hangout Ft. The Bul Bey at Velvet Whip
DESCRIPTION:
URL:https://phillysoulnow.com/event/the-hangout-ft-the-bul-bey-at-velvet-whip/
LOCATION:The Velvet Whip Speakeasy\, 319 N. 11th Street\, Philadelphia\, Pennsylvania\, 19107\, United States
ATTACH;FMTTYPE=image/webp:https://phillysoulnow.com/wp-content/uploads/2026/01/thehangout.philly__2026-01-24T005518.000Z.webp
END:VEVENT
END:VCALENDAR