BEGIN:VCALENDAR
VERSION:2.0
PRODID:-//Philly Soul Now - ECPv6.15.20//NONSGML v1.0//EN
CALSCALE:GREGORIAN
METHOD:PUBLISH
X-ORIGINAL-URL:https://phillysoulnow.com
X-WR-CALDESC:Events for Philly Soul Now
REFRESH-INTERVAL;VALUE=DURATION:PT1H
X-Robots-Tag:noindex
X-PUBLISHED-TTL:PT1H
BEGIN:VTIMEZONE
TZID:America/New_York
BEGIN:DAYLIGHT
TZOFFSETFROM:-0500
TZOFFSETTO:-0400
TZNAME:EDT
DTSTART:20250309T070000
END:DAYLIGHT
BEGIN:STANDARD
TZOFFSETFROM:-0400
TZOFFSETTO:-0500
TZNAME:EST
DTSTART:20251102T060000
END:STANDARD
BEGIN:DAYLIGHT
TZOFFSETFROM:-0500
TZOFFSETTO:-0400
TZNAME:EDT
DTSTART:20260308T070000
END:DAYLIGHT
BEGIN:STANDARD
TZOFFSETFROM:-0400
TZOFFSETTO:-0500
TZNAME:EST
DTSTART:20261101T060000
END:STANDARD
BEGIN:DAYLIGHT
TZOFFSETFROM:-0500
TZOFFSETTO:-0400
TZNAME:EDT
DTSTART:20270314T070000
END:DAYLIGHT
BEGIN:STANDARD
TZOFFSETFROM:-0400
TZOFFSETTO:-0500
TZNAME:EST
DTSTART:20271107T060000
END:STANDARD
END:VTIMEZONE
BEGIN:VEVENT
DTSTART;TZID=America/New_York:20260531T120000
DTEND;TZID=America/New_York:20260531T233000
DTSTAMP:20260425T122659
CREATED:20260324T011155Z
LAST-MODIFIED:20260324T011155Z
UID:8951-1780228800-1780270200@phillysoulnow.com
SUMMARY:Roots Picnic at Belmont Plateau
DESCRIPTION:
URL:https://phillysoulnow.com/event/roots-picnic-at-belmont-plateau-2/
LOCATION:Belmont Plateau\, 1800 Belmont Mansion Dr\, Philadelphia\, Pennsylvania\, 19131\, United States
ATTACH;FMTTYPE=image/jpeg:https://phillysoulnow.com/wp-content/uploads/2026/03/IMG_9634.jpg
END:VEVENT
BEGIN:VEVENT
DTSTART;TZID=America/New_York:20260531T200000
DTEND;TZID=America/New_York:20260531T220000
DTSTAMP:20260425T122659
CREATED:20260320T201602Z
LAST-MODIFIED:20260320T201603Z
UID:8912-1780257600-1780264800@phillysoulnow.com
SUMMARY:Chrisette Michelle at The Foundry
DESCRIPTION:
URL:https://phillysoulnow.com/event/chrisette-michelle-at-the-foundry/
LOCATION:The Foundry\, 29 E Allen St.\, Philadelphia\, Pennsylvania\, 19123\, United States
ATTACH;FMTTYPE=image/jpeg:https://phillysoulnow.com/wp-content/uploads/2026/03/fillmorephilly__2026-02-17T170216.000Z.jpg
END:VEVENT
BEGIN:VEVENT
DTSTART;TZID=America/New_York:20260531T200000
DTEND;TZID=America/New_York:20260531T223000
DTSTAMP:20260425T122659
CREATED:20260320T204412Z
LAST-MODIFIED:20260320T232450Z
UID:8921-1780257600-1780266600@phillysoulnow.com
SUMMARY:SOLD OUT: Alex Isley at Brooklyn Bowl
DESCRIPTION:
URL:https://phillysoulnow.com/event/sold-out-alex-isley-at-brooklyn-bowl/
LOCATION:Brooklyn Bowl\, 1009 Canal Street\, Philadephia\, Pennsylvania\, 19123\, United States
ATTACH;FMTTYPE=image/jpeg:https://phillysoulnow.com/wp-content/uploads/2026/03/20260531_AlexIsley_promo_1080x1080-71d8d53f16.jpeg
END:VEVENT
BEGIN:VEVENT
DTSTART;TZID=America/New_York:20260602T200000
DTEND;TZID=America/New_York:20260602T220000
DTSTAMP:20260425T122659
CREATED:20260306T153509Z
LAST-MODIFIED:20260306T153510Z
UID:8807-1780430400-1780437600@phillysoulnow.com
SUMMARY:YEBBA at Union Transfer
DESCRIPTION:
URL:https://phillysoulnow.com/event/yebba-at-union-transfer/
LOCATION:Union Transfer\, 1026 Spring Garden Street.\, Philadelphia\, Pennsylvania\, 19123\, United States
ATTACH;FMTTYPE=image/jpeg:https://phillysoulnow.com/wp-content/uploads/2026/03/IMG_9427.jpeg
END:VEVENT
BEGIN:VEVENT
DTSTART;TZID=America/New_York:20260605T193000
DTEND;TZID=America/New_York:20260605T223000
DTSTAMP:20260425T122659
CREATED:20260127T012536Z
LAST-MODIFIED:20260127T012537Z
UID:8651-1780687800-1780698600@phillysoulnow.com
SUMMARY:Summer Walker: The Trilogy Tour at Xfinity Mobile Arena
DESCRIPTION:With special guests Monaleo & Odeal
URL:https://phillysoulnow.com/event/summer-walker-the-trilogy-tour-at-xfinity-mobile-arena/
LOCATION:Xfinity Mobile Arena\, 3601 South Broad St.\, Philadelphia\, Pennsylvania\, 19148\, United States
ATTACH;FMTTYPE=image/jpeg:https://phillysoulnow.com/wp-content/uploads/2026/01/xfinitymobilearena__2026-01-22T180923.000Z.jpg
END:VEVENT
BEGIN:VEVENT
DTSTART;TZID=America/New_York:20260627T200000
DTEND;TZID=America/New_York:20260627T223000
DTSTAMP:20260425T122659
CREATED:20260320T174752Z
LAST-MODIFIED:20260320T174753Z
UID:8878-1782590400-1782599400@phillysoulnow.com
SUMMARY:Wale & Smino - Everything Is A Lot... The Tour at The Fillmore
DESCRIPTION:
URL:https://phillysoulnow.com/event/wale-smino-everything-is-a-lot-the-tour-at-the-fillmore/
LOCATION:The Fillmore\, 29 E Allen Street\, Philadelphia\, Pennsylvania\, 19123\, United States
ATTACH;FMTTYPE=image/jpeg:https://phillysoulnow.com/wp-content/uploads/2026/03/fillmorephilly__2026-02-11T180100.000Z-1.jpg
END:VEVENT
BEGIN:VEVENT
DTSTART;TZID=America/New_York:20260716T193000
DTEND;TZID=America/New_York:20260716T230000
DTSTAMP:20260425T122700
CREATED:20260127T033341Z
LAST-MODIFIED:20260127T033342Z
UID:8655-1784230200-1784242800@phillysoulnow.com
SUMMARY:Lionel Richie and Earth\, Wind & Fire: Sing a Song All Night Long Tour at Xfinity Mobile Arena
DESCRIPTION:
URL:https://phillysoulnow.com/event/lionel-richie-and-earth-wind-fire-sing-a-song-all-night-long-tour-at-xfinity-mobile-arena/
LOCATION:Xfinity Mobile Arena\, 3601 South Broad St.\, Philadelphia\, Pennsylvania\, 19148\, United States
ATTACH;FMTTYPE=image/jpeg:https://phillysoulnow.com/wp-content/uploads/2026/01/xfinitymobilearena__2026-01-26T170123.000Z.jpg
END:VEVENT
BEGIN:VEVENT
DTSTART;TZID=America/New_York:20260724T190000
DTEND;TZID=America/New_York:20260724T220000
DTSTAMP:20260425T122700
CREATED:20260309T142258Z
LAST-MODIFIED:20260309T150931Z
UID:8811-1784919600-1784930400@phillysoulnow.com
SUMMARY:Jill Scott: To Whom This May Concern Tour at The Met (3 Nights)
DESCRIPTION:
URL:https://phillysoulnow.com/event/jill-scott-to-whom-this-may-concern-tour-at-the-met-3-nights/
LOCATION:The Met Philadelphia\, 858 N. Broad Street\, Philadelphia\, PA\, 19130\, United States
ATTACH;FMTTYPE=image/jpeg:https://phillysoulnow.com/wp-content/uploads/2026/03/IMG_9444.jpeg
END:VEVENT
BEGIN:VEVENT
DTSTART;TZID=America/New_York:20260725T190000
DTEND;TZID=America/New_York:20260725T220000
DTSTAMP:20260425T122700
CREATED:20260309T142455Z
LAST-MODIFIED:20260309T142456Z
UID:8814-1785006000-1785016800@phillysoulnow.com
SUMMARY:Jill Scott: To Whom This May Concern Tour at The Met (3 Nights)
DESCRIPTION:
URL:https://phillysoulnow.com/event/jill-scott-to-whom-this-may-concern-tour-at-the-met-3-nights-2/
LOCATION:The Met Philadelphia\, 858 N. Broad Street\, Philadelphia\, PA\, 19130\, United States
ATTACH;FMTTYPE=image/jpeg:https://phillysoulnow.com/wp-content/uploads/2026/03/IMG_9444.jpeg
END:VEVENT
BEGIN:VEVENT
DTSTART;TZID=America/New_York:20260727T190000
DTEND;TZID=America/New_York:20260727T220000
DTSTAMP:20260425T122700
CREATED:20260309T142713Z
LAST-MODIFIED:20260309T150950Z
UID:8816-1785178800-1785189600@phillysoulnow.com
SUMMARY:Jill Scott: To Whom This May Concern Tour at The Met (3 Nights)
DESCRIPTION:
URL:https://phillysoulnow.com/event/jill-scott-to-whom-this-may-concern-tour-at-the-met-3-nights-3/
LOCATION:The Met Philadelphia\, 858 N. Broad Street\, Philadelphia\, PA\, 19130\, United States
ATTACH;FMTTYPE=image/jpeg:https://phillysoulnow.com/wp-content/uploads/2026/03/IMG_9444.jpeg
END:VEVENT
BEGIN:VEVENT
DTSTART;TZID=America/New_York:20260729T193000
DTEND;TZID=America/New_York:20260729T213000
DTSTAMP:20260425T122700
CREATED:20260324T013113Z
LAST-MODIFIED:20260324T013114Z
UID:8962-1785353400-1785360600@phillysoulnow.com
SUMMARY:Herbie Hancock at Kimmel Center for Performing Arts
DESCRIPTION:
URL:https://phillysoulnow.com/event/herbie-hancock-at-kimmel-center-for-performing-arts/
LOCATION:Ensemble Arts Philly\, 260 South Broad Street\, Philadelphia\, Pennsylvania\, 19102\, United States
ATTACH;FMTTYPE=image/jpeg:https://phillysoulnow.com/wp-content/uploads/2026/03/ensembleartsphilly__2026-03-13T120016.000Z.jpg
END:VEVENT
BEGIN:VEVENT
DTSTART;TZID=America/New_York:20260825T193000
DTEND;TZID=America/New_York:20260825T230000
DTSTAMP:20260425T122700
CREATED:20260324T012331Z
LAST-MODIFIED:20260324T012331Z
UID:8895-1787686200-1787698800@phillysoulnow.com
SUMMARY:Ella Mai at Highmark Mann
DESCRIPTION:With special guests AMA and GIRLFRIEND
URL:https://phillysoulnow.com/event/ella-mai-at-highmark-mann/
LOCATION:Highmark Mann\, 5201 Parkside Avenue\, Philadelphia\, Pennsylvania\, 19131\, United States
ATTACH;FMTTYPE=image/jpeg:https://phillysoulnow.com/wp-content/uploads/2026/03/highmarkmann__2026-03-17T140038.000Z.jpg
END:VEVENT
BEGIN:VEVENT
DTSTART;TZID=America/New_York:20260901T190000
DTEND;TZID=America/New_York:20260901T220000
DTSTAMP:20260425T122700
CREATED:20260108T141055Z
LAST-MODIFIED:20260115T011553Z
UID:8594-1788289200-1788300000@phillysoulnow.com
SUMMARY:Bruno Mars: The Romantic Tour at Lincoln Financial Field
DESCRIPTION:Special guests: Anderson Paak AKA DJ Pee Wee and Raye
URL:https://phillysoulnow.com/event/bruno-mars-the-romantic-tour-at-lincoln-financial-field/
LOCATION:Lincoln Financial Field\, One Lincoln Financial Field Way\, Philadelphia\, Pennsylvania\, 19148\, United States
ATTACH;FMTTYPE=image/jpeg:https://phillysoulnow.com/wp-content/uploads/2026/01/image-1768438859-1.jpeg
END:VEVENT
BEGIN:VEVENT
DTSTART;TZID=America/New_York:20260902T200000
DTEND;TZID=America/New_York:20260902T220000
DTSTAMP:20260425T122700
CREATED:20260115T011930Z
LAST-MODIFIED:20260115T012008Z
UID:8611-1788379200-1788386400@phillysoulnow.com
SUMMARY:Bruno Mars: The Romantic Tour at Lincoln Financial Field
DESCRIPTION:Special guests: Anderson Paak AKA DJ Pee Wee and Raye
URL:https://phillysoulnow.com/event/bruno-mars-the-romantic-tour-at-lincoln-financial-field-2/
LOCATION:Lincoln Financial Field\, One Lincoln Financial Field Way\, Philadelphia\, Pennsylvania\, 19148\, United States
ATTACH;FMTTYPE=image/jpeg:https://phillysoulnow.com/wp-content/uploads/2026/01/image-1768438859-1.jpeg
END:VEVENT
BEGIN:VEVENT
DTSTART;TZID=America/New_York:20260918T200000
DTEND;TZID=America/New_York:20260918T220000
DTSTAMP:20260425T122700
CREATED:20260324T012730Z
LAST-MODIFIED:20260324T012731Z
UID:8959-1789761600-1789768800@phillysoulnow.com
SUMMARY:Boyz II Men with The Philly Pops at Highmark Mann
DESCRIPTION:
URL:https://phillysoulnow.com/event/boyz-ii-men-with-the-philly-pops-at-highmark-mann/
LOCATION:Highmark Mann\, 5201 Parkside Ave\, Philadelphia\, Pennsylvania\, 19131\, United States
ATTACH;FMTTYPE=image/jpeg:https://phillysoulnow.com/wp-content/uploads/2026/03/highmarkmann__2026-03-20T141856.000Z-1.jpg
END:VEVENT
BEGIN:VEVENT
DTSTART;TZID=America/New_York:20261003T200000
DTEND;TZID=America/New_York:20261003T233000
DTSTAMP:20260425T122700
CREATED:20251204T180755Z
LAST-MODIFIED:20260114T232547Z
UID:8518-1791057600-1791070200@phillysoulnow.com
SUMMARY:Jermaine Dolly & Friends: You Gotta Chill at The Liacouras Center
DESCRIPTION:Jermaine Dolly & Friends bring the perfect combination of powerful\, fun\, and joyful music to Philadelphia! Get on your feet with music from Kierra Sheard\, Jonathon McReynolds\, Leandria Johnson\, Zacardi Cortez\, Kim Burrell\, Tim Bowman Jr\, Anton Milton\, James Scott and the JC Choir\, and Busta Fields.
URL:https://phillysoulnow.com/event/jermaine-dolly-friends-you-gotta-chill-at-the-licouras-center/
LOCATION:The Liacouras Center\, 1776 North Broad Street\, Philadelphia\, Pennsylvania\, 19121
CATEGORIES:Concert
ATTACH;FMTTYPE=image/jpeg:https://phillysoulnow.com/wp-content/uploads/2025/12/Jermaine-Dolly-Liacouras-Center.jpeg
END:VEVENT
END:VCALENDAR