BEGIN:VCALENDAR
VERSION:2.0
PRODID:-//Philly Soul Now - ECPv6.15.20//NONSGML v1.0//EN
CALSCALE:GREGORIAN
METHOD:PUBLISH
X-WR-CALNAME:Philly Soul Now
X-ORIGINAL-URL:https://phillysoulnow.com
X-WR-CALDESC:Events for Philly Soul Now
REFRESH-INTERVAL;VALUE=DURATION:PT1H
X-Robots-Tag:noindex
X-PUBLISHED-TTL:PT1H
BEGIN:VTIMEZONE
TZID:America/New_York
BEGIN:DAYLIGHT
TZOFFSETFROM:-0500
TZOFFSETTO:-0400
TZNAME:EDT
DTSTART:20250309T070000
END:DAYLIGHT
BEGIN:STANDARD
TZOFFSETFROM:-0400
TZOFFSETTO:-0500
TZNAME:EST
DTSTART:20251102T060000
END:STANDARD
BEGIN:DAYLIGHT
TZOFFSETFROM:-0500
TZOFFSETTO:-0400
TZNAME:EDT
DTSTART:20260308T070000
END:DAYLIGHT
BEGIN:STANDARD
TZOFFSETFROM:-0400
TZOFFSETTO:-0500
TZNAME:EST
DTSTART:20261101T060000
END:STANDARD
BEGIN:DAYLIGHT
TZOFFSETFROM:-0500
TZOFFSETTO:-0400
TZNAME:EDT
DTSTART:20270314T070000
END:DAYLIGHT
BEGIN:STANDARD
TZOFFSETFROM:-0400
TZOFFSETTO:-0500
TZNAME:EST
DTSTART:20271107T060000
END:STANDARD
END:VTIMEZONE
BEGIN:VEVENT
DTSTART;TZID=America/New_York:20260509T200000
DTEND;TZID=America/New_York:20260509T220000
DTSTAMP:20260425T085256
CREATED:20260127T010655Z
LAST-MODIFIED:20260205T012156Z
UID:8645-1778356800-1778364000@phillysoulnow.com
SUMMARY:SOLD OUT- Elmiene: Sounds for Someone Tour at TLA
DESCRIPTION:
URL:https://phillysoulnow.com/event/elmiene-sounds-for-someone-tour-at-tla/
LOCATION:TLA\, 334 South Street\, Philadelphia\, PA\, United States
ATTACH;FMTTYPE=image/jpeg:https://phillysoulnow.com/wp-content/uploads/2026/01/tlaphilly__2026-01-26T172205.000Z.jpg
END:VEVENT
END:VCALENDAR