BEGIN:VCALENDAR
VERSION:2.0
PRODID:-//Philly Soul Now - ECPv6.15.20//NONSGML v1.0//EN
CALSCALE:GREGORIAN
METHOD:PUBLISH
X-ORIGINAL-URL:https://phillysoulnow.com
X-WR-CALDESC:Events for Philly Soul Now
REFRESH-INTERVAL;VALUE=DURATION:PT1H
X-Robots-Tag:noindex
X-PUBLISHED-TTL:PT1H
BEGIN:VTIMEZONE
TZID:America/New_York
BEGIN:DAYLIGHT
TZOFFSETFROM:-0500
TZOFFSETTO:-0400
TZNAME:EDT
DTSTART:20250309T070000
END:DAYLIGHT
BEGIN:STANDARD
TZOFFSETFROM:-0400
TZOFFSETTO:-0500
TZNAME:EST
DTSTART:20251102T060000
END:STANDARD
BEGIN:DAYLIGHT
TZOFFSETFROM:-0500
TZOFFSETTO:-0400
TZNAME:EDT
DTSTART:20260308T070000
END:DAYLIGHT
BEGIN:STANDARD
TZOFFSETFROM:-0400
TZOFFSETTO:-0500
TZNAME:EST
DTSTART:20261101T060000
END:STANDARD
BEGIN:DAYLIGHT
TZOFFSETFROM:-0500
TZOFFSETTO:-0400
TZNAME:EDT
DTSTART:20270314T070000
END:DAYLIGHT
BEGIN:STANDARD
TZOFFSETFROM:-0400
TZOFFSETTO:-0500
TZNAME:EST
DTSTART:20271107T060000
END:STANDARD
END:VTIMEZONE
BEGIN:VEVENT
DTSTART;TZID=America/New_York:20260415T190000
DTEND;TZID=America/New_York:20260415T220000
DTSTAMP:20260425T070538
CREATED:20260405T034438Z
LAST-MODIFIED:20260406T211154Z
UID:8984-1776279600-1776290400@phillysoulnow.com
SUMMARY:Soul Sessions Presents: Tribute- Blue Eyed Soul Edition at Fringe Bar
DESCRIPTION:From the organizers: We are back with another edition of Soul Sessions Presents: Tribute- Blue Eyed Soul\, the premier live music experience in Philly! With the maestro Luke Carlos O’Reilly\, and hosted by Jay The Gentleman\, Tribute provides immaculate vibes and sultry sounds as we pay homage to artists of the Blue Eyed Soul calibur\, such as: \n\n\n\nBobby CaldwellDaryl Hall & John OatesAmy WinehouseSimply RedJojoJustin TimberlakeTeena Marieand much more!
URL:https://phillysoulnow.com/event/soul-sessions-presents-tribute-blue-eyed-soul-edition-at-fringe-bar/
LOCATION:Fringe Bar\, 140 N. Delaware Avenue\, Philadelphia\, PA\, 19106\, United States
ATTACH;FMTTYPE=image/jpeg:https://phillysoulnow.com/wp-content/uploads/2026/04/iamjaythegentleman__2026-04-02T011852.000Z.jpg
END:VEVENT
END:VCALENDAR