BEGIN:VCALENDAR
VERSION:2.0
PRODID:-//Philly Soul Now - ECPv6.15.20//NONSGML v1.0//EN
CALSCALE:GREGORIAN
METHOD:PUBLISH
X-WR-CALNAME:Philly Soul Now
X-ORIGINAL-URL:https://phillysoulnow.com
X-WR-CALDESC:Events for Philly Soul Now
REFRESH-INTERVAL;VALUE=DURATION:PT1H
X-Robots-Tag:noindex
X-PUBLISHED-TTL:PT1H
BEGIN:VTIMEZONE
TZID:America/New_York
BEGIN:DAYLIGHT
TZOFFSETFROM:-0500
TZOFFSETTO:-0400
TZNAME:EDT
DTSTART:20250309T070000
END:DAYLIGHT
BEGIN:STANDARD
TZOFFSETFROM:-0400
TZOFFSETTO:-0500
TZNAME:EST
DTSTART:20251102T060000
END:STANDARD
BEGIN:DAYLIGHT
TZOFFSETFROM:-0500
TZOFFSETTO:-0400
TZNAME:EDT
DTSTART:20260308T070000
END:DAYLIGHT
BEGIN:STANDARD
TZOFFSETFROM:-0400
TZOFFSETTO:-0500
TZNAME:EST
DTSTART:20261101T060000
END:STANDARD
BEGIN:DAYLIGHT
TZOFFSETFROM:-0500
TZOFFSETTO:-0400
TZNAME:EDT
DTSTART:20270314T070000
END:DAYLIGHT
BEGIN:STANDARD
TZOFFSETFROM:-0400
TZOFFSETTO:-0500
TZNAME:EST
DTSTART:20271107T060000
END:STANDARD
END:VTIMEZONE
BEGIN:VEVENT
DTSTART;TZID=America/New_York:20260414T210000
DTEND;TZID=America/New_York:20260414T233000
DTSTAMP:20260425T070209
CREATED:20260320T201928Z
LAST-MODIFIED:20260320T201928Z
UID:8914-1776200400-1776209400@phillysoulnow.com
SUMMARY:Tuesday Night Tunes at Margolis Philly
DESCRIPTION:TNT (Tuesday Night Tunes)A monthly night of live music\, open jam sessions\, and nonstop good vibes. Musicians\, vocalists\, and music lovers come together for an energetic\, collaborative evening of sound and community. \n\n\n\nTickets: $10Includes: Live performers\, DJs\, and an open jam atmosphere.
URL:https://phillysoulnow.com/event/tuesday-night-tunes-at-margolis-philly/
LOCATION:Margolis\, 9 W Wildey Street\, Philadelphia\, New Jersey\, 19123\, United States
ATTACH;FMTTYPE=image/jpeg:https://phillysoulnow.com/wp-content/uploads/2026/03/dabessentertainmentllc__2026-02-18T002048.000Z.jpg
END:VEVENT
END:VCALENDAR