BEGIN:VCALENDAR
VERSION:2.0
PRODID:-//Philly Soul Now - ECPv6.15.20//NONSGML v1.0//EN
CALSCALE:GREGORIAN
METHOD:PUBLISH
X-WR-CALNAME:Philly Soul Now
X-ORIGINAL-URL:https://phillysoulnow.com
X-WR-CALDESC:Events for Philly Soul Now
REFRESH-INTERVAL;VALUE=DURATION:PT1H
X-Robots-Tag:noindex
X-PUBLISHED-TTL:PT1H
BEGIN:VTIMEZONE
TZID:America/New_York
BEGIN:DAYLIGHT
TZOFFSETFROM:-0500
TZOFFSETTO:-0400
TZNAME:EDT
DTSTART:20250309T070000
END:DAYLIGHT
BEGIN:STANDARD
TZOFFSETFROM:-0400
TZOFFSETTO:-0500
TZNAME:EST
DTSTART:20251102T060000
END:STANDARD
BEGIN:DAYLIGHT
TZOFFSETFROM:-0500
TZOFFSETTO:-0400
TZNAME:EDT
DTSTART:20260308T070000
END:DAYLIGHT
BEGIN:STANDARD
TZOFFSETFROM:-0400
TZOFFSETTO:-0500
TZNAME:EST
DTSTART:20261101T060000
END:STANDARD
BEGIN:DAYLIGHT
TZOFFSETFROM:-0500
TZOFFSETTO:-0400
TZNAME:EDT
DTSTART:20270314T070000
END:DAYLIGHT
BEGIN:STANDARD
TZOFFSETFROM:-0400
TZOFFSETTO:-0500
TZNAME:EST
DTSTART:20271107T060000
END:STANDARD
END:VTIMEZONE
BEGIN:VEVENT
DTSTART;TZID=America/New_York:20260412T150000
DTEND;TZID=America/New_York:20260412T180000
DTSTAMP:20260425T070209
CREATED:20260320T203219Z
LAST-MODIFIED:20260320T203220Z
UID:8916-1776006000-1776016800@phillysoulnow.com
SUMMARY:Jazz Vespers at Historic Mother Bethel AME featuring V. Shayne Frederick
DESCRIPTION:An exhilarating program of Sacred Jazz\, hymns\, and spirituals from the Black Church tradition\, and meditative readings\, held at the historic Mother Bethel AME Church\, Philadelphia’s own bastion of Black culture and the struggle for freedom and equality in the United States. The ensemble\, outfitted by some of the most sought after and lauded Jazz players in the region\, is led by vocalist\, educator\, and curator V. Shayne Frederick.
URL:https://phillysoulnow.com/event/jazz-vespers-at-historic-mother-bethel-ame-featuring-v-shayne-frederick/
ATTACH;FMTTYPE=image/jpeg:https://phillysoulnow.com/wp-content/uploads/2026/03/vshaynef__2026-03-20T184400.000Z.jpg
END:VEVENT
END:VCALENDAR