BEGIN:VCALENDAR
VERSION:2.0
PRODID:-//Philly Soul Now - ECPv6.15.20//NONSGML v1.0//EN
CALSCALE:GREGORIAN
METHOD:PUBLISH
X-ORIGINAL-URL:https://phillysoulnow.com
X-WR-CALDESC:Events for Philly Soul Now
REFRESH-INTERVAL;VALUE=DURATION:PT1H
X-Robots-Tag:noindex
X-PUBLISHED-TTL:PT1H
BEGIN:VTIMEZONE
TZID:America/New_York
BEGIN:DAYLIGHT
TZOFFSETFROM:-0500
TZOFFSETTO:-0400
TZNAME:EDT
DTSTART:20250309T070000
END:DAYLIGHT
BEGIN:STANDARD
TZOFFSETFROM:-0400
TZOFFSETTO:-0500
TZNAME:EST
DTSTART:20251102T060000
END:STANDARD
BEGIN:DAYLIGHT
TZOFFSETFROM:-0500
TZOFFSETTO:-0400
TZNAME:EDT
DTSTART:20260308T070000
END:DAYLIGHT
BEGIN:STANDARD
TZOFFSETFROM:-0400
TZOFFSETTO:-0500
TZNAME:EST
DTSTART:20261101T060000
END:STANDARD
BEGIN:DAYLIGHT
TZOFFSETFROM:-0500
TZOFFSETTO:-0400
TZNAME:EDT
DTSTART:20270314T070000
END:DAYLIGHT
BEGIN:STANDARD
TZOFFSETFROM:-0400
TZOFFSETTO:-0500
TZNAME:EST
DTSTART:20271107T060000
END:STANDARD
END:VTIMEZONE
BEGIN:VEVENT
DTSTART;TZID=America/New_York:20260410T190000
DTEND;TZID=America/New_York:20260410T220000
DTSTAMP:20260425T070559
CREATED:20260216T164213Z
LAST-MODIFIED:20260216T170523Z
UID:8764-1775847600-1775858400@phillysoulnow.com
SUMMARY:Floetry: Say Yes Tour Featuring Raheem DeVaughn and Teedra Moses at The Met
DESCRIPTION:
URL:https://phillysoulnow.com/event/floetry-say-yes-tour-at-the-met/
LOCATION:The Met Philadelphia\, 858 N. Broad Street\, Philadelphia\, PA\, 19130\, United States
ATTACH;FMTTYPE=image/jpeg:https://phillysoulnow.com/wp-content/uploads/2026/02/IMG_9224.jpeg
END:VEVENT
BEGIN:VEVENT
DTSTART;TZID=America/New_York:20260410T200000
DTEND;TZID=America/New_York:20260410T223000
DTSTAMP:20260425T070559
CREATED:20260320T180811Z
LAST-MODIFIED:20260320T180811Z
UID:8887-1775851200-1775860200@phillysoulnow.com
SUMMARY:Trey Songz: 20 Years of Trey Songz  Tour at The Liacouras Center
DESCRIPTION:
URL:https://phillysoulnow.com/event/trey-songz-20-years-of-trey-songz-tour-at-the-liacouras-center/
LOCATION:The Liacouras Center\, 1776 North Broad Street\, Philadelphia\, Pennsylvania\, 19121
ATTACH;FMTTYPE=image/jpeg:https://phillysoulnow.com/wp-content/uploads/2026/03/Trey-Songz-website-main-image-ca2759c1e7.jpeg
END:VEVENT
END:VCALENDAR