BEGIN:VCALENDAR
VERSION:2.0
PRODID:-//Philly Soul Now - ECPv6.15.20//NONSGML v1.0//EN
CALSCALE:GREGORIAN
METHOD:PUBLISH
X-ORIGINAL-URL:https://phillysoulnow.com
X-WR-CALDESC:Events for Philly Soul Now
REFRESH-INTERVAL;VALUE=DURATION:PT1H
X-Robots-Tag:noindex
X-PUBLISHED-TTL:PT1H
BEGIN:VTIMEZONE
TZID:America/New_York
BEGIN:DAYLIGHT
TZOFFSETFROM:-0500
TZOFFSETTO:-0400
TZNAME:EDT
DTSTART:20250309T070000
END:DAYLIGHT
BEGIN:STANDARD
TZOFFSETFROM:-0400
TZOFFSETTO:-0500
TZNAME:EST
DTSTART:20251102T060000
END:STANDARD
BEGIN:DAYLIGHT
TZOFFSETFROM:-0500
TZOFFSETTO:-0400
TZNAME:EDT
DTSTART:20260308T070000
END:DAYLIGHT
BEGIN:STANDARD
TZOFFSETFROM:-0400
TZOFFSETTO:-0500
TZNAME:EST
DTSTART:20261101T060000
END:STANDARD
BEGIN:DAYLIGHT
TZOFFSETFROM:-0500
TZOFFSETTO:-0400
TZNAME:EDT
DTSTART:20270314T070000
END:DAYLIGHT
BEGIN:STANDARD
TZOFFSETFROM:-0400
TZOFFSETTO:-0500
TZNAME:EST
DTSTART:20271107T060000
END:STANDARD
END:VTIMEZONE
BEGIN:VEVENT
DTSTART;TZID=America/New_York:20260327T190000
DTEND;TZID=America/New_York:20260327T220000
DTSTAMP:20260425T084635
CREATED:20260127T011721Z
LAST-MODIFIED:20260127T011721Z
UID:8649-1774638000-1774648800@phillysoulnow.com
SUMMARY:Jon B at TLA
DESCRIPTION:
URL:https://phillysoulnow.com/event/jon-b-at-tla/
LOCATION:TLA\, 334 South Street\, Philadelphia\, PA\, United States
ATTACH;FMTTYPE=image/jpeg:https://phillysoulnow.com/wp-content/uploads/2026/01/tlaphilly__2026-01-26T184014.000Z.jpg
END:VEVENT
BEGIN:VEVENT
DTSTART;TZID=America/New_York:20260327T190000
DTEND;TZID=America/New_York:20260329T223000
DTSTAMP:20260425T084635
CREATED:20260320T210709Z
LAST-MODIFIED:20260320T210710Z
UID:8941-1774638000-1774823400@phillysoulnow.com
SUMMARY:Emily Braden at South Jazz Kitchen- March 27- 29 (Showtimes Vary)
DESCRIPTION:Friday & Saturday Showtimes 7:00PM & 9:30PM  \n\n\n\nSunday Showtimes 6:30PM & 8:30PM
URL:https://phillysoulnow.com/event/emily-braden-at-south-jazz-kitchen-march-27-29-showtimes-vary/
LOCATION:SOUTH\, 600 N Broad St.\, Philadelphia\, 19130\, United States
ATTACH;FMTTYPE=image/jpeg:https://phillysoulnow.com/wp-content/uploads/2026/03/southjazzkitchen__2026-02-28T153538.000Z.jpg
END:VEVENT
END:VCALENDAR