BEGIN:VCALENDAR
VERSION:2.0
PRODID:-//Philly Soul Now - ECPv6.15.20//NONSGML v1.0//EN
CALSCALE:GREGORIAN
METHOD:PUBLISH
X-ORIGINAL-URL:https://phillysoulnow.com
X-WR-CALDESC:Events for Philly Soul Now
REFRESH-INTERVAL;VALUE=DURATION:PT1H
X-Robots-Tag:noindex
X-PUBLISHED-TTL:PT1H
BEGIN:VTIMEZONE
TZID:America/New_York
BEGIN:DAYLIGHT
TZOFFSETFROM:-0500
TZOFFSETTO:-0400
TZNAME:EDT
DTSTART:20250309T070000
END:DAYLIGHT
BEGIN:STANDARD
TZOFFSETFROM:-0400
TZOFFSETTO:-0500
TZNAME:EST
DTSTART:20251102T060000
END:STANDARD
BEGIN:DAYLIGHT
TZOFFSETFROM:-0500
TZOFFSETTO:-0400
TZNAME:EDT
DTSTART:20260308T070000
END:DAYLIGHT
BEGIN:STANDARD
TZOFFSETFROM:-0400
TZOFFSETTO:-0500
TZNAME:EST
DTSTART:20261101T060000
END:STANDARD
BEGIN:DAYLIGHT
TZOFFSETFROM:-0500
TZOFFSETTO:-0400
TZNAME:EDT
DTSTART:20270314T070000
END:DAYLIGHT
BEGIN:STANDARD
TZOFFSETFROM:-0400
TZOFFSETTO:-0500
TZNAME:EST
DTSTART:20271107T060000
END:STANDARD
END:VTIMEZONE
BEGIN:VEVENT
DTSTART;TZID=America/New_York:20260224T190000
DTEND;TZID=America/New_York:20260224T230000
DTSTAMP:20260425T103446
CREATED:20260220T181209Z
LAST-MODIFIED:20260220T181209Z
UID:8778-1771959600-1771974000@phillysoulnow.com
SUMMARY:Cadence in the Clouds Featuring A.Rob\, Sahlii\, and DJ Bear One at The Cigar Code
DESCRIPTION:Cadence in the Clouds is an industry night celebrating the dreamers of Philadelphia — the artists\, creatives\, entrepreneurs\, and supporters of the arts who are building here instead of leaving. \n\n\n\nDJ Bear OnePerformances by A.Rob \, SahliiLive music. Local vendors. Raffles. Art. Community.
URL:https://phillysoulnow.com/event/cadence-in-the-clouds-featuring-a-rob-sahlii-and-dj-bear-one-at-the-cigar-code/
LOCATION:The Cigar Code\, 939 N Delaware Ave\, Philadelphia\, Pennsylvania\, 19123
ATTACH;FMTTYPE=image/jpeg:https://phillysoulnow.com/wp-content/uploads/2026/02/cadenceintheclouds__2026-02-16T001926.000Z.jpg
END:VEVENT
BEGIN:VEVENT
DTSTART;TZID=America/New_York:20260224T200000
DTEND;TZID=America/New_York:20260224T223000
DTSTAMP:20260425T103446
CREATED:20260220T180000Z
LAST-MODIFIED:20260220T180118Z
UID:8775-1771963200-1771972200@phillysoulnow.com
SUMMARY:Mariah the Scientist: Hearts Sold Separately at The Met
DESCRIPTION:
URL:https://phillysoulnow.com/event/mariah-the-scientist-hearts-sold-separately-at-the-met/
LOCATION:The Met Philadelphia\, 858 N. Broad Street\, Philadelphia\, PA\, 19130\, United States
CATEGORIES:Concert
ATTACH;FMTTYPE=image/jpeg:https://phillysoulnow.com/wp-content/uploads/2026/02/IMG_9268.jpeg
END:VEVENT
END:VCALENDAR