BEGIN:VCALENDAR
VERSION:2.0
PRODID:-//Philly Soul Now - ECPv6.15.20//NONSGML v1.0//EN
CALSCALE:GREGORIAN
METHOD:PUBLISH
X-ORIGINAL-URL:https://phillysoulnow.com
X-WR-CALDESC:Events for Philly Soul Now
REFRESH-INTERVAL;VALUE=DURATION:PT1H
X-Robots-Tag:noindex
X-PUBLISHED-TTL:PT1H
BEGIN:VTIMEZONE
TZID:America/New_York
BEGIN:DAYLIGHT
TZOFFSETFROM:-0500
TZOFFSETTO:-0400
TZNAME:EDT
DTSTART:20250309T070000
END:DAYLIGHT
BEGIN:STANDARD
TZOFFSETFROM:-0400
TZOFFSETTO:-0500
TZNAME:EST
DTSTART:20251102T060000
END:STANDARD
BEGIN:DAYLIGHT
TZOFFSETFROM:-0500
TZOFFSETTO:-0400
TZNAME:EDT
DTSTART:20260308T070000
END:DAYLIGHT
BEGIN:STANDARD
TZOFFSETFROM:-0400
TZOFFSETTO:-0500
TZNAME:EST
DTSTART:20261101T060000
END:STANDARD
BEGIN:DAYLIGHT
TZOFFSETFROM:-0500
TZOFFSETTO:-0400
TZNAME:EDT
DTSTART:20270314T070000
END:DAYLIGHT
BEGIN:STANDARD
TZOFFSETFROM:-0400
TZOFFSETTO:-0500
TZNAME:EST
DTSTART:20271107T060000
END:STANDARD
END:VTIMEZONE
BEGIN:VEVENT
DTSTART;TZID=America/New_York:20260221T193000
DTEND;TZID=America/New_York:20260221T220000
DTSTAMP:20260425T103549
CREATED:20260127T041045Z
LAST-MODIFIED:20260127T041046Z
UID:8671-1771702200-1771711200@phillysoulnow.com
SUMMARY:Vertical Current at The Clef Club
DESCRIPTION:
URL:https://phillysoulnow.com/event/vertical-current-at-the-clef-club/
LOCATION:Philadelphia Clef Club of Jazz and Performing Arts\, 736 S Broad Street PA\, Philadelphia\, Pennsylvania\, 19146
ATTACH;FMTTYPE=image/jpeg:https://phillysoulnow.com/wp-content/uploads/2026/01/verticalcurrent__2026-01-06T231733.000Z.jpg
END:VEVENT
BEGIN:VEVENT
DTSTART;TZID=America/New_York:20260221T203000
DTEND;TZID=America/New_York:20260221T230000
DTSTAMP:20260425T103549
CREATED:20251028T185942Z
LAST-MODIFIED:20251028T185944Z
UID:8419-1771705800-1771714800@phillysoulnow.com
SUMMARY:Miguel: Caos Tour at The Met
DESCRIPTION:With special guest Jean Dawson
URL:https://phillysoulnow.com/event/miguel-caos-tour-at-the-met/
LOCATION:The Met Philadelphia\, 858 N. Broad Street\, Philadelphia\, PA\, 19130\, United States
ATTACH;FMTTYPE=image/jpeg:https://phillysoulnow.com/wp-content/uploads/2025/10/IMG_7629.jpeg
END:VEVENT
END:VCALENDAR