BEGIN:VCALENDAR
VERSION:2.0
PRODID:-//Philly Soul Now - ECPv6.15.20//NONSGML v1.0//EN
CALSCALE:GREGORIAN
METHOD:PUBLISH
X-ORIGINAL-URL:https://phillysoulnow.com
X-WR-CALDESC:Events for Philly Soul Now
REFRESH-INTERVAL;VALUE=DURATION:PT1H
X-Robots-Tag:noindex
X-PUBLISHED-TTL:PT1H
BEGIN:VTIMEZONE
TZID:America/New_York
BEGIN:DAYLIGHT
TZOFFSETFROM:-0500
TZOFFSETTO:-0400
TZNAME:EDT
DTSTART:20250309T070000
END:DAYLIGHT
BEGIN:STANDARD
TZOFFSETFROM:-0400
TZOFFSETTO:-0500
TZNAME:EST
DTSTART:20251102T060000
END:STANDARD
BEGIN:DAYLIGHT
TZOFFSETFROM:-0500
TZOFFSETTO:-0400
TZNAME:EDT
DTSTART:20260308T070000
END:DAYLIGHT
BEGIN:STANDARD
TZOFFSETFROM:-0400
TZOFFSETTO:-0500
TZNAME:EST
DTSTART:20261101T060000
END:STANDARD
BEGIN:DAYLIGHT
TZOFFSETFROM:-0500
TZOFFSETTO:-0400
TZNAME:EDT
DTSTART:20270314T070000
END:DAYLIGHT
BEGIN:STANDARD
TZOFFSETFROM:-0400
TZOFFSETTO:-0500
TZNAME:EST
DTSTART:20271107T060000
END:STANDARD
END:VTIMEZONE
BEGIN:VEVENT
DTSTART;TZID=America/New_York:20260211T190000
DTEND;TZID=America/New_York:20260211T220000
DTSTAMP:20260425T103605
CREATED:20260205T013628Z
LAST-MODIFIED:20260205T013629Z
UID:8695-1770836400-1770847200@phillysoulnow.com
SUMMARY:A Jam Without Borders to Benefit Families Impacted By ICE Via Juntos: Corey Bernhard and Friends at Ortlieb's
DESCRIPTION:Tickets for A Jam Without Borders\, a fundraiser for Philadelphia families impacted by ICE via Juntos. Hosted by Corey Bernhard and Friends: \n\n\n\nSpecial guest Dayne Jordan \n\n\n\nTone Whitfield \n\n\n\nNazir Ebo \n\n\n\nArnetta Johnson \n\n\n\nRuss Gellman \n\n\n\nYesseh Furaha-Ali
URL:https://phillysoulnow.com/event/a-jam-without-borders-to-benefit-families-impacted-by-ice-via-juntos-corey-bernhard-and-friends-at-ortliebs/
LOCATION:Ortlieb’s\, 847 North 3rd Street\, Philadelphia\, Pennsylvania\, 19123\, United States
ATTACH;FMTTYPE=image/jpeg:https://phillysoulnow.com/wp-content/uploads/2026/02/4333collective__2026-01-22T000546.000Z-1.jpg
END:VEVENT
END:VCALENDAR